BEGIN:VCALENDAR
VERSION:2.0
PRODID:-//Plone.org//NONSGML plone.app.event//EN
X-WR-TIMEZONE:Europe/Brussels
BEGIN:VEVENT
SUMMARY:Carlos Payán - Concert de sortie de résidence - Le 6 mars à 20h
DTSTART;TZID=Europe/Brussels:20240306T200000
DTEND;TZID=Europe/Brussels:20240306T210000
DTSTAMP:20260419T180820Z
UID:27aa23e2a7ec48519fc0dca1beca0323@albadev.netvaast.be
CATEGORIES:concert,musique,sortie de résidence
CREATED:20240221T085453Z
LAST-MODIFIED:20260227T094808Z
LOCATION:L'Alba - 24 Boulevard Audent  - 6000 Charleroi
URL:https://albadev.netvaast.be/fr/agenda/carlos-payan-concert-de-sortie-d
 e-residence
END:VEVENT
BEGIN:VEVENT
SUMMARY:Atelier d'écriture créative en musique sur le thème de l'aube a
 vec Magali Durieux
DTSTART;TZID=Europe/Brussels:20231122T160000
DTEND;TZID=Europe/Brussels:20231122T180000
DTSTAMP:20260419T180820Z
UID:7874491e5760494ea79bac87b9c64850@albadev.netvaast.be
CATEGORIES:atelier,atelier d'écriture
CONTACT:Magali Durieux\, MAGalleryD@outlook.fr
CREATED:20231107T162248Z
LAST-MODIFIED:20260227T094742Z
LOCATION:24 boulevard Audent - 6000 Charleroi
URL:https://albadev.netvaast.be/fr/agenda/atelier-decriture-creative-en-mu
 sique-sur-le-theme-de-laube-avec-magali-durieux
END:VEVENT
BEGIN:VTIMEZONE
TZID:Europe/Brussels
X-LIC-LOCATION:Europe/Brussels
BEGIN:STANDARD
DTSTART:20231029T020000
TZNAME:CET
TZOFFSETFROM:+0200
TZOFFSETTO:+0100
END:STANDARD
END:VTIMEZONE
END:VCALENDAR
